BEGIN:VCALENDAR
VERSION:2.0
PRODID:-//Minnesota Power Employee Credit Union - ECPv6.15.17.1//NONSGML v1.0//EN
CALSCALE:GREGORIAN
METHOD:PUBLISH
X-ORIGINAL-URL:https://mpecu.com
X-WR-CALDESC:Events for Minnesota Power Employee Credit Union
REFRESH-INTERVAL;VALUE=DURATION:PT1H
X-Robots-Tag:noindex
X-PUBLISHED-TTL:PT1H
BEGIN:VTIMEZONE
TZID:America/Chicago
BEGIN:DAYLIGHT
TZOFFSETFROM:-0600
TZOFFSETTO:-0500
TZNAME:CDT
DTSTART:20250309T080000
END:DAYLIGHT
BEGIN:STANDARD
TZOFFSETFROM:-0500
TZOFFSETTO:-0600
TZNAME:CST
DTSTART:20251102T070000
END:STANDARD
BEGIN:DAYLIGHT
TZOFFSETFROM:-0600
TZOFFSETTO:-0500
TZNAME:CDT
DTSTART:20260308T080000
END:DAYLIGHT
BEGIN:STANDARD
TZOFFSETFROM:-0500
TZOFFSETTO:-0600
TZNAME:CST
DTSTART:20261101T070000
END:STANDARD
BEGIN:DAYLIGHT
TZOFFSETFROM:-0600
TZOFFSETTO:-0500
TZNAME:CDT
DTSTART:20270314T080000
END:DAYLIGHT
BEGIN:STANDARD
TZOFFSETFROM:-0500
TZOFFSETTO:-0600
TZNAME:CST
DTSTART:20271107T070000
END:STANDARD
BEGIN:DAYLIGHT
TZOFFSETFROM:-0600
TZOFFSETTO:-0500
TZNAME:CDT
DTSTART:20280312T080000
END:DAYLIGHT
BEGIN:STANDARD
TZOFFSETFROM:-0500
TZOFFSETTO:-0600
TZNAME:CST
DTSTART:20281105T070000
END:STANDARD
END:VTIMEZONE
BEGIN:VEVENT
DTSTART;VALUE=DATE:20261111
DTEND;VALUE=DATE:20261112
DTSTAMP:20260421T092945
CREATED:20250917T175550Z
LAST-MODIFIED:20260212T200929Z
UID:10000008-1794355200-1794441599@mpecu.com
SUMMARY:HOLIDAY: Veterans' Day-MPECU Closed
DESCRIPTION:Have a fun and safe holiday!
URL:https://mpecu.com/event/veterans-day-mpecu-closed
END:VEVENT
BEGIN:VEVENT
DTSTART;VALUE=DATE:20261126
DTEND;VALUE=DATE:20261127
DTSTAMP:20260421T092945
CREATED:20250917T175633Z
LAST-MODIFIED:20260212T200917Z
UID:10000009-1795651200-1795737599@mpecu.com
SUMMARY:HOLIDAY: Thanksgiving--MPECU Closed
DESCRIPTION:Have a fun and safe holiday! \nPLEASE NOTE: The Main Office loacted in Allete/Minnesota Power Headquarters will be CLOSED on Friday\, November 27th. The Miller and Arrowhead Offices will be open their normal 9 am until 5 pm hours on Friday.
URL:https://mpecu.com/event/thanksgiving-mpecu-closed
END:VEVENT
BEGIN:VEVENT
DTSTART;VALUE=DATE:20261224
DTEND;VALUE=DATE:20261226
DTSTAMP:20260421T092945
CREATED:20250917T175705Z
LAST-MODIFIED:20260212T200903Z
UID:10000010-1798070400-1798243199@mpecu.com
SUMMARY:HOLIDAY: Christmas Holiday Observed-MPECU Closed
DESCRIPTION:Have a fun and safe holiday!
URL:https://mpecu.com/event/christmas-holiday-observed-mpecu-closed
END:VEVENT
BEGIN:VEVENT
DTSTART;VALUE=DATE:20261231
DTEND;VALUE=DATE:20270102
DTSTAMP:20260421T092945
CREATED:20250917T175738Z
LAST-MODIFIED:20260212T200851Z
UID:10000011-1798675200-1798847999@mpecu.com
SUMMARY:HOLIDAY: New Year's Holiday--MPECU Closed
DESCRIPTION:Have a fun and safe holiday!
URL:https://mpecu.com/event/new-years-holiday-observed-mpecu-closed
END:VEVENT
END:VCALENDAR